BEGIN:VCALENDAR
VERSION:2.0
PRODID:Greensboro, NC Calendar Creator
METHOD:PUBLISH
BEGIN:VEVENT
DTSTAMP:20260213T114048
DTSTART:20260228T100000
DTEND:20260228T110000
SUMMARY:Planning Your Spring Garden
DESCRIPTION:Please note the new date of February 28!<br><br>Participants will learn how to prepare garden spaces for spring planting. Topics include Raised bed/Container gardening, seed starting, planting timelines, soil preparation, and more.
X-ALT-DESC;FMTTYPE=text/html:Please note the new date of February 28!<br><br>Participants will learn how to prepare garden spaces for spring planting. Topics include Raised bed/Container gardening, seed starting, planting timelines, soil preparation, and more.
LOCATION:Brown Recreation Center\, 302 E. Vandalia Rd. Greensboro\, North Carolina 27406
CLASS:PUBLIC
END:VEVENT
END:VCALENDAR
