BEGIN:VCALENDAR
VERSION:2.0
PRODID:Greensboro, NC Calendar Creator
METHOD:PUBLISH
BEGIN:VEVENT
DTSTAMP:20251212T165124
DTSTART:20260509T100000
DTEND:20260509T110000
SUMMARY:The Plants and the Planted Green Hill Cemetery Walking Tour
DESCRIPTION:<div x11i5rnm="" xat24cr="" x1mh8g0r="" x1vvkbs"="">Join Friends of Green Hill Cemetery for guided walking tours of the historic Green Hill Cemetery. Tours will highlight buried persons, monuments, and dozens of trees and shrubs along our tour route.</div><p x11i5rnm="" xat24cr="" x1mh8g0r=""><div x11i5rnm="" xat24cr="" x1mh8g0r="" x1vvkbs"=""></div></p><div xat24cr="" x1mh8g0r="" x1vvkbs="" xtlvy1s"="">Weather cancellations will be posted on Friends of Green Hill's <a href="https://www.facebook.com/groups/52050422262" target="_blank">Facebook</a>. Guided walking tours of the southern half of Green Hill begin at the southern-most gate on Wharton Street near Fisher Avenue.</div><p xat24cr="" x1mh8g0r="" x1vvkbs=""><div xat24cr="" x1mh8g0r="" x1vvkbs="" xtlvy1s"=""></div></p><div xat24cr="" x1mh8g0r="" x1vvkbs="" xtlvy1s"="">Tours are $5 person, paid in cash only and collected at the tour.</div><p xat24cr="" x1mh8g0r="" x1vvkbs=""><div xat24cr="" x1mh8g0r="" x1vvkbs="" xtlvy1s"=""></div></p><div xat24cr="" x1mh8g0r="" x1vvkbs="" xtlvy1s"="">Questions? <a href="mailto:&#73;&#110;&#102;&#111;&#64;&#70;&#114;&#105;&#101;&#110;&#100;&#115;&#79;&#102;&#71;&#114;&#101;&#101;&#110;&#72;&#105;&#108;&#108;&#67;&#101;&#109;&#101;&#116;&#101;&#114;&#121;&#46;&#111;&#114;&#103;&#63;&#115;&#117;&#98;&#106;&#101;&#99;&#116;&#61;&#87;&#97;&#108;&#107;&#105;&#110;&#103;&#32;&#84;&#111;&#117;&#114;&#115;">Email</a> Friends of Green Hill Cemetery.</div>
X-ALT-DESC;FMTTYPE=text/html:<div x11i5rnm="" xat24cr="" x1mh8g0r="" x1vvkbs"="">Join Friends of Green Hill Cemetery for guided walking tours of the historic Green Hill Cemetery. Tours will highlight buried persons, monuments, and dozens of trees and shrubs along our tour route.</div><p x11i5rnm="" xat24cr="" x1mh8g0r=""><div x11i5rnm="" xat24cr="" x1mh8g0r="" x1vvkbs"=""></div></p><div xat24cr="" x1mh8g0r="" x1vvkbs="" xtlvy1s"="">Weather cancellations will be posted on Friends of Green Hill's <a href="https://www.facebook.com/groups/52050422262" target="_blank">Facebook</a>. Guided walking tours of the southern half of Green Hill begin at the southern-most gate on Wharton Street near Fisher Avenue.</div><p xat24cr="" x1mh8g0r="" x1vvkbs=""><div xat24cr="" x1mh8g0r="" x1vvkbs="" xtlvy1s"=""></div></p><div xat24cr="" x1mh8g0r="" x1vvkbs="" xtlvy1s"="">Tours are $5 person, paid in cash only and collected at the tour.</div><p xat24cr="" x1mh8g0r="" x1vvkbs=""><div xat24cr="" x1mh8g0r="" x1vvkbs="" xtlvy1s"=""></div></p><div xat24cr="" x1mh8g0r="" x1vvkbs="" xtlvy1s"="">Questions? <a href="mailto:&#73;&#110;&#102;&#111;&#64;&#70;&#114;&#105;&#101;&#110;&#100;&#115;&#79;&#102;&#71;&#114;&#101;&#101;&#110;&#72;&#105;&#108;&#108;&#67;&#101;&#109;&#101;&#116;&#101;&#114;&#121;&#46;&#111;&#114;&#103;&#63;&#115;&#117;&#98;&#106;&#101;&#99;&#116;&#61;&#87;&#97;&#108;&#107;&#105;&#110;&#103;&#32;&#84;&#111;&#117;&#114;&#115;">Email</a> Friends of Green Hill Cemetery.</div>
LOCATION:Green Hill Cemetery\, 901 Wharton St. Greensboro\, North Carolina 27401
CLASS:PUBLIC
END:VEVENT
END:VCALENDAR
