BEGIN:VCALENDAR
VERSION:2.0
PRODID:Greensboro, NC Calendar Creator
METHOD:PUBLISH
BEGIN:VEVENT
DTSTAMP:20251212T163603
DTSTART:20260516T120000
DTEND:20260516T140000
SUMMARY:Superhero Bash
DESCRIPTION:Dress up as real or made-up superheros and come to our superhero bash! We'll have candy, drinks, and participants can show off their costumes and have fun. No registration is required.
X-ALT-DESC;FMTTYPE=text/html:Dress up as real or made-up superheros and come to our superhero bash! We'll have candy, drinks, and participants can show off their costumes and have fun. No registration is required.
LOCATION:Lindley Recreation Center & Al Lowe Boxing Club\, 2907 Springwood Dr. Greensboro\, North Carolina 27403
CLASS:PUBLIC
END:VEVENT
END:VCALENDAR
