BEGIN:VCALENDAR
VERSION:2.0
PRODID:Greensboro, NC Calendar Creator
METHOD:PUBLISH
BEGIN:VEVENT
DTSTAMP:20251212T163415
DTSTART:20260430T183000
DTEND:20260430T203000
SUMMARY:Adult Glow in the Dark Dodgeball
DESCRIPTION:<p>Adults 18 and over are invited to come and enjoy a fun way of playing dodgeball!</p><p>Individuals and teams will come together for a night of fun after work to tap into one of our favorite childhood games with a energetic twist played in the dark. Players will wear glow attire and the dodgeballs will glow in the dark.</p>
X-ALT-DESC;FMTTYPE=text/html:<p>Adults 18 and over are invited to come and enjoy a fun way of playing dodgeball!</p><p>Individuals and teams will come together for a night of fun after work to tap into one of our favorite childhood games with a energetic twist played in the dark. Players will wear glow attire and the dodgeballs will glow in the dark.</p>
LOCATION:Glenwood Recreation Center\, 2010 Coliseum Blvd. Greensboro\, North Carolina 27403
CLASS:PUBLIC
END:VEVENT
END:VCALENDAR
