BEGIN:VCALENDAR
VERSION:2.0
PRODID:Greensboro, NC Calendar Creator
METHOD:PUBLISH
BEGIN:VEVENT
DTSTAMP:20260401T150604
DTSTART:20260425T160000
DTEND:20260425T173000
SUMMARY:Frieda McFadden Book Club
DESCRIPTION:<p>Join us for a thrilling new book club dedicated to the twist-filled, addictive novels of bestselling author Frieda McFadden! </p><p>Each meeting will include spoiler-free first impressions, guided discussion questions, and plenty of space to unpack McFadden’s signature jaw-dropping twists. Whether you’re a longtime fan or brand-new to her novels, this is the perfect place to connect with fellow readers who love fast-paced suspense and unforgettable characters. This month's book  is entitled&nbsp;<em>The Intruder.</em><br><br>Come for the mystery… stay for the twists you never saw coming.</p><p>Contact Chastity Stanfield at 336-373-2926 or <a href="mailto:&#99;&#104;&#97;&#115;&#116;&#105;&#116;&#121;&#46;&#115;&#116;&#97;&#110;&#102;&#105;&#101;&#108;&#100;&#64;&#103;&#114;&#101;&#101;&#110;&#115;&#98;&#111;&#114;&#111;&#45;&#110;&#99;&#46;&#103;&#111;&#118;&#63;&#115;&#117;&#98;&#106;&#101;&#99;&#116;&#61;&#82;&#101;&#103;&#105;&#115;&#116;&#114;&#97;&#116;&#105;&#111;&#110;&#32;&#102;&#111;&#114;&#32;&#77;&#99;&#70;&#97;&#100;&#100;&#101;&#110;&#32;&#98;&#111;&#111;&#107;&#32;&#99;&#108;&#117;&#98;">email</a> to register or for more information.</p>
X-ALT-DESC;FMTTYPE=text/html:<p>Join us for a thrilling new book club dedicated to the twist-filled, addictive novels of bestselling author Frieda McFadden! </p><p>Each meeting will include spoiler-free first impressions, guided discussion questions, and plenty of space to unpack McFadden’s signature jaw-dropping twists. Whether you’re a longtime fan or brand-new to her novels, this is the perfect place to connect with fellow readers who love fast-paced suspense and unforgettable characters. This month's book  is entitled&nbsp;<em>The Intruder.</em><br><br>Come for the mystery… stay for the twists you never saw coming.</p><p>Contact Chastity Stanfield at 336-373-2926 or <a href="mailto:&#99;&#104;&#97;&#115;&#116;&#105;&#116;&#121;&#46;&#115;&#116;&#97;&#110;&#102;&#105;&#101;&#108;&#100;&#64;&#103;&#114;&#101;&#101;&#110;&#115;&#98;&#111;&#114;&#111;&#45;&#110;&#99;&#46;&#103;&#111;&#118;&#63;&#115;&#117;&#98;&#106;&#101;&#99;&#116;&#61;&#82;&#101;&#103;&#105;&#115;&#116;&#114;&#97;&#116;&#105;&#111;&#110;&#32;&#102;&#111;&#114;&#32;&#77;&#99;&#70;&#97;&#100;&#100;&#101;&#110;&#32;&#98;&#111;&#111;&#107;&#32;&#99;&#108;&#117;&#98;">email</a> to register or for more information.</p>
LOCATION:Hemphill Branch Library\, 2301 W. Vandalia Rd. Greensboro\, North Carolina 27407
CLASS:PUBLIC
END:VEVENT
END:VCALENDAR
