BEGIN:VCALENDAR
VERSION:2.0
PRODID:Greensboro, NC Calendar Creator
METHOD:PUBLISH
BEGIN:VEVENT
DTSTAMP:20251212T144149
DTSTART:20260417T130000
DTEND:20260417T150000
SUMMARY:PGA Hope
DESCRIPTION:<p>A free golf program every Friday March 27 through May 29, for all military veterans that provides golf instruction taught by local PGA Professionals.&nbsp; </p><p>All abilities welcomed and encouraged. Register on their <a href="https://carolinas.pga.com/foundation/pga-hope-2-2/" target="_blank">website.</a>&nbsp;</p>
X-ALT-DESC;FMTTYPE=text/html:<p>A free golf program every Friday March 27 through May 29, for all military veterans that provides golf instruction taught by local PGA Professionals.&nbsp; </p><p>All abilities welcomed and encouraged. Register on their <a href="https://carolinas.pga.com/foundation/pga-hope-2-2/" target="_blank">website.</a>&nbsp;</p>
LOCATION:Gillespie Golf Course\, 306 E. Florida St. Greensboro\, North Carolina 27406
CLASS:PUBLIC
END:VEVENT
END:VCALENDAR
