BEGIN:VCALENDAR
VERSION:2.0
PRODID:Greensboro, NC Calendar Creator
METHOD:PUBLISH
BEGIN:VEVENT
DTSTAMP:20260121T085037
DTSTART:20260423T170000
DTEND:20260423T183000
SUMMARY:Beginner Archery Clinic
DESCRIPTION:<p>Join Parks and Recreation staff for our Beginner Archery Clinics held April 9 and 23, and May 7.</p><p>If you have never shot a bow and arrow or you have and just want more practice, then join us at Bryan Park Shelter 10 at our Archery Range. We will have all of the equipment you will need. We will not allow any personal equipment to be used at our range for these clinics. Please be aware that we have limited targets so participants will take turns at our targets.<br><br>Shelter 10 in Bryan Park is located just before you turn into Lake Townsend Marina. The address to Lake Townsend is 6332 Townsend Rd. Browns Summit, NC 27214.</p><p><a href="https://ncgreenweb.myvscloud.com/webtrac/web/search.html?module=ar&amp;primarycode=LTNBAC" target="_blank" rel="noopener">Registration</a> is required and will open soon. $8 per person.<br><br>If you have any questions please email <a href="mailto:&#66;&#114;&#111;&#111;&#107;&#101;&#46;&#87;&#105;&#108;&#115;&#111;&#110;&#64;&#103;&#114;&#101;&#101;&#110;&#115;&#98;&#111;&#114;&#111;&#45;&#110;&#99;&#46;&#103;&#111;&#118;&#63;&#115;&#117;&#98;&#106;&#101;&#99;&#116;&#61;&#65;&#114;&#99;&#104;&#101;&#114;&#121;&#32;&#67;&#108;&#105;&#110;&#105;&#99;&#115;">Brooke Wilson</a>.</p>
X-ALT-DESC;FMTTYPE=text/html:<p>Join Parks and Recreation staff for our Beginner Archery Clinics held April 9 and 23, and May 7.</p><p>If you have never shot a bow and arrow or you have and just want more practice, then join us at Bryan Park Shelter 10 at our Archery Range. We will have all of the equipment you will need. We will not allow any personal equipment to be used at our range for these clinics. Please be aware that we have limited targets so participants will take turns at our targets.<br><br>Shelter 10 in Bryan Park is located just before you turn into Lake Townsend Marina. The address to Lake Townsend is 6332 Townsend Rd. Browns Summit, NC 27214.</p><p><a href="https://ncgreenweb.myvscloud.com/webtrac/web/search.html?module=ar&amp;primarycode=LTNBAC" target="_blank" rel="noopener">Registration</a> is required and will open soon. $8 per person.<br><br>If you have any questions please email <a href="mailto:&#66;&#114;&#111;&#111;&#107;&#101;&#46;&#87;&#105;&#108;&#115;&#111;&#110;&#64;&#103;&#114;&#101;&#101;&#110;&#115;&#98;&#111;&#114;&#111;&#45;&#110;&#99;&#46;&#103;&#111;&#118;&#63;&#115;&#117;&#98;&#106;&#101;&#99;&#116;&#61;&#65;&#114;&#99;&#104;&#101;&#114;&#121;&#32;&#67;&#108;&#105;&#110;&#105;&#99;&#115;">Brooke Wilson</a>.</p>
LOCATION:Bryan Park\, 6275 Bryan Park Rd. Greensboro\, North Carolina 27214
CLASS:PUBLIC
END:VEVENT
END:VCALENDAR
