BEGIN:VCALENDAR
VERSION:2.0
PRODID:Greensboro, NC Calendar Creator
METHOD:PUBLISH
BEGIN:VEVENT
DTSTAMP:20251204T105158
DTSTART:20260423T130000
DTEND:20260423T140000
SUMMARY:From House to Home: Estate Sale Discoveries
DESCRIPTION:Estate Sale-Savvy is an interactive program that teaches participants how to navigate estate sales with confidence and purpose.&nbsp; Attendees will learn practical strategies for identifying quality items, negotiating fair prices, and recognizing value in furniture, kitchenware, art, collectibles, and home decor. The session emphasizes using estate sales as a smart, budget-friendly way to furnish a home, explore hobbies, and begin or expand a personal art collection--<strong>without focusing on reselling.&nbsp;&nbsp;</strong>
X-ALT-DESC;FMTTYPE=text/html:Estate Sale-Savvy is an interactive program that teaches participants how to navigate estate sales with confidence and purpose.&nbsp; Attendees will learn practical strategies for identifying quality items, negotiating fair prices, and recognizing value in furniture, kitchenware, art, collectibles, and home decor. The session emphasizes using estate sales as a smart, budget-friendly way to furnish a home, explore hobbies, and begin or expand a personal art collection--<strong>without focusing on reselling.&nbsp;&nbsp;</strong>
LOCATION:McGirt-Horton Branch Library\, 2501 Phillips Ave. Greensboro\, North Carolina 27405
CLASS:PUBLIC
END:VEVENT
END:VCALENDAR
