BEGIN:VCALENDAR
VERSION:2.0
PRODID:Greensboro, NC Calendar Creator
METHOD:PUBLISH
BEGIN:VEVENT
DTSTAMP:20251204T104739
DTSTART:20260422T150000
DTEND:20260422T160000
SUMMARY:Paint Your Own Terracotta Pot for Earth Day!
DESCRIPTION:<p>Join us to paint and decorate your own small terracotta pot to celebrate Earth Day and all plants that grow. This program is for teens and adults. Supplies are limited, so registration is required. To register, call the Glenn McNairy Branch at 336-373-2015 or email <a href="mailto:&#109;&#97;&#100;&#101;&#108;&#105;&#110;&#101;&#46;&#97;&#110;&#103;&#108;&#105;&#110;&#64;&#103;&#114;&#101;&#101;&#110;&#115;&#98;&#111;&#114;&#111;&#45;&#110;&#99;&#46;&#103;&#111;&#118;">Madeline</a>.&nbsp;</p>
X-ALT-DESC;FMTTYPE=text/html:<p>Join us to paint and decorate your own small terracotta pot to celebrate Earth Day and all plants that grow. This program is for teens and adults. Supplies are limited, so registration is required. To register, call the Glenn McNairy Branch at 336-373-2015 or email <a href="mailto:&#109;&#97;&#100;&#101;&#108;&#105;&#110;&#101;&#46;&#97;&#110;&#103;&#108;&#105;&#110;&#64;&#103;&#114;&#101;&#101;&#110;&#115;&#98;&#111;&#114;&#111;&#45;&#110;&#99;&#46;&#103;&#111;&#118;">Madeline</a>.&nbsp;</p>
LOCATION:Glenn McNairy Branch Library\, 4860 Lake Jeanette Rd. Greensboro\, North Carolina 27455
CLASS:PUBLIC
END:VEVENT
END:VCALENDAR
