BEGIN:VCALENDAR
VERSION:2.0
PRODID:Greensboro, NC Calendar Creator
METHOD:PUBLISH
BEGIN:VEVENT
DTSTAMP:20251212T162514
DTSTART:20260418T130000
DTEND:20260418T160000
SUMMARY:Glenwood Grind
DESCRIPTION:<p>Grab your skateboard, roller skates, and roller blades and head over to the Glenwood Skate Spot for the 4th Annual Glenwood Grind! This skating event will feature not only time to practice your moves at the Glenwood Skate Spot, but interactive art projects, live performances, and a trick contest. No registration required.&nbsp;</p>
X-ALT-DESC;FMTTYPE=text/html:<p>Grab your skateboard, roller skates, and roller blades and head over to the Glenwood Skate Spot for the 4th Annual Glenwood Grind! This skating event will feature not only time to practice your moves at the Glenwood Skate Spot, but interactive art projects, live performances, and a trick contest. No registration required.&nbsp;</p>
LOCATION:Glenwood Recreation Center\, 2010 Coliseum Blvd. Greensboro\, North Carolina 27403
CLASS:PUBLIC
END:VEVENT
END:VCALENDAR
