BEGIN:VCALENDAR
VERSION:2.0
PRODID:Greensboro, NC Calendar Creator
METHOD:PUBLISH
BEGIN:VEVENT
DTSTAMP:20251124T162937
DTSTART:20260513T130000
DTEND:20260513T160000
SUMMARY:Newcomers Mah Jong
DESCRIPTION:Come out for this competitive, fun mah jong group the 2nd and 4th Wednesdays of each month - ideal for newcomers. No registration is required.&nbsp;
X-ALT-DESC;FMTTYPE=text/html:Come out for this competitive, fun mah jong group the 2nd and 4th Wednesdays of each month - ideal for newcomers. No registration is required.&nbsp;
LOCATION:Lewis Recreation Center\, 3110 Forest Lawn Dr. Greensboro\, North Carolina 27455
CLASS:PUBLIC
END:VEVENT
END:VCALENDAR
