BEGIN:VCALENDAR
VERSION:2.0
PRODID:Greensboro, NC Calendar Creator
METHOD:PUBLISH
BEGIN:VEVENT
DTSTAMP:20251121T095317
DTSTART:20260424T163000
DTEND:20260424T170000
SUMMARY:City Nature Challenge
DESCRIPTION:Join us for the worldwide nature-celebration, the City Nature Challenge — a fun, free, and collective event inviting everyone to explore the wildlife in our city and document it for science! Photograph flora and fauna in Price Park, then upload the pictures to iNaturalist. For more information, e-mail <a href="mailto:melanie.buckingham@greensboro-nc.gov?subject=Register for City Nature Challenge" id="melanie.buckingham@greensboro-nc.gov" title="Register for City Nature Challenge">Melanie Buckingham</a>.<br>
X-ALT-DESC;FMTTYPE=text/html:Join us for the worldwide nature-celebration, the City Nature Challenge — a fun, free, and collective event inviting everyone to explore the wildlife in our city and document it for science! Photograph flora and fauna in Price Park, then upload the pictures to iNaturalist. For more information, e-mail <a href="mailto:melanie.buckingham@greensboro-nc.gov?subject=Register for City Nature Challenge" id="melanie.buckingham@greensboro-nc.gov" title="Register for City Nature Challenge">Melanie Buckingham</a>.<br>
LOCATION:Kathleen Clay Edwards Family Branch Library\, 1420 Price Park Rd. Greensboro\, North Carolina 27410
CLASS:PUBLIC
END:VEVENT
END:VCALENDAR
