BEGIN:VCALENDAR
VERSION:2.0
PRODID:Greensboro, NC Calendar Creator
METHOD:PUBLISH
BEGIN:VEVENT
DTSTAMP:20251114T164831
DTSTART:20260514T103000
DTEND:20260514T120000
SUMMARY:Pancakes and Careers
DESCRIPTION:<p>Every second Thursday, February through May, this program will be bringing in information about jobs in the community and local colleges and trade schools, all while enjoying free pancakes and breakfast!&nbsp;</p>
X-ALT-DESC;FMTTYPE=text/html:<p>Every second Thursday, February through May, this program will be bringing in information about jobs in the community and local colleges and trade schools, all while enjoying free pancakes and breakfast!&nbsp;</p>
LOCATION:Peeler Recreation Center\, 1300 Sykes Ave. Greensboro\, North Carolina 27405
CLASS:PUBLIC
END:VEVENT
END:VCALENDAR
