BEGIN:VCALENDAR
VERSION:2.0
PRODID:Greensboro, NC Calendar Creator
METHOD:PUBLISH
BEGIN:VEVENT
DTSTAMP:20251114T163002
DTSTART:20260516T120000
DTEND:20260516T133000
SUMMARY:Women's 40+ Double Dutch
DESCRIPTION:<p>Join our 40+ Women's Double Dutch Club that promotes fun, fellowship, fitness, and friendship. Tune up, burn calories by jumping, hula hooping, and hopscotch. This program meets weekly on Saturdays. No registration required.&nbsp;</p>
X-ALT-DESC;FMTTYPE=text/html:<p>Join our 40+ Women's Double Dutch Club that promotes fun, fellowship, fitness, and friendship. Tune up, burn calories by jumping, hula hooping, and hopscotch. This program meets weekly on Saturdays. No registration required.&nbsp;</p>
LOCATION:Craft Recreation Center\, 3911 Yanceyville St. Greensboro\, North Carolina 27405
CLASS:PUBLIC
END:VEVENT
END:VCALENDAR
