BEGIN:VCALENDAR
VERSION:2.0
PRODID:Greensboro, NC Calendar Creator
METHOD:PUBLISH
BEGIN:VEVENT
DTSTAMP:20251114T161644
DTSTART:20260509T100000
DTEND:20260509T110000
SUMMARY:Health is Wealth - Power of 10
DESCRIPTION:<p>This program educates individuals on holistic health and wellness, and provides educational resources and guidance on healthy choices. Meets the second Saturday of each month.</p>
X-ALT-DESC;FMTTYPE=text/html:<p>This program educates individuals on holistic health and wellness, and provides educational resources and guidance on healthy choices. Meets the second Saturday of each month.</p>
LOCATION:Griffin Recreation Center\, 5301 Hilltop Rd. Greensboro\, North Carolina 27407
CLASS:PUBLIC
END:VEVENT
END:VCALENDAR
