BEGIN:VCALENDAR
VERSION:2.0
PRODID:Greensboro, NC Calendar Creator
METHOD:PUBLISH
BEGIN:VEVENT
DTSTAMP:20251114T130220
DTSTART:20260507T190000
DTEND:20260507T210000
SUMMARY:Triad Outdoor Photography
DESCRIPTION:Photographers are invited to join local photographer John Poer in sharing the love of outdoor photography. Learn tips and tricks capturing high quality photos. This group meets the first Thursday of every month. No registration required.&nbsp;
X-ALT-DESC;FMTTYPE=text/html:Photographers are invited to join local photographer John Poer in sharing the love of outdoor photography. Learn tips and tricks capturing high quality photos. This group meets the first Thursday of every month. No registration required.&nbsp;
LOCATION:Leonard Recreation Center\, 6324 Ballinger Rd. Greensboro\, North Carolina 27410
CLASS:PUBLIC
END:VEVENT
END:VCALENDAR
