BEGIN:VCALENDAR
VERSION:2.0
PRODID:Greensboro, NC Calendar Creator
METHOD:PUBLISH
BEGIN:VEVENT
DTSTAMP:20251114T130219
DTSTART:20260512T180000
DTEND:20260512T193000
SUMMARY:Warnersville Community Coalition
DESCRIPTION:<p>Come share and listen to local community members about improving our community, engaging with the youth, and providing community resources. Meets second Tuesday of each month.&nbsp;</p>
X-ALT-DESC;FMTTYPE=text/html:<p>Come share and listen to local community members about improving our community, engaging with the youth, and providing community resources. Meets second Tuesday of each month.&nbsp;</p>
LOCATION:Warnersville Recreation Center\, 601 Doak St. Greensboro\, North Carolina 27406
CLASS:PUBLIC
END:VEVENT
END:VCALENDAR
