BEGIN:VCALENDAR
VERSION:2.0
PRODID:Greensboro, NC Calendar Creator
METHOD:PUBLISH
BEGIN:VEVENT
DTSTAMP:20251114T104010
DTSTART:20260508T180000
DTEND:20260508T210000
SUMMARY:Bid Whist Club at Craft
DESCRIPTION:<p>Bringing you the ultimate competitive card game, Bid Whist is a trick-taking two player card game that you can play with joker plus trump.</p>
X-ALT-DESC;FMTTYPE=text/html:<p>Bringing you the ultimate competitive card game, Bid Whist is a trick-taking two player card game that you can play with joker plus trump.</p>
LOCATION:Craft Recreation Center\, 3911 Yanceyville St. Greensboro\, North Carolina 27405
CLASS:PUBLIC
END:VEVENT
END:VCALENDAR
