BEGIN:VCALENDAR
VERSION:2.0
PRODID:Greensboro, NC Calendar Creator
METHOD:PUBLISH
BEGIN:VEVENT
DTSTAMP:20251114T102559
DTSTART:20260425T130000
DTEND:20260425T164500
SUMMARY:Badminton Club at Trotter
DESCRIPTION:<p>This membership based badminton club practices and plays competitive badminton! Play occurs the 2nd and 4th Saturdays of the month.&nbsp;</p><p><a href="https://www.greensborobadminton.com/" target="_blank" rel="noopener">Learn more</a>&nbsp;and register today. Membership purchase available on the website.</p>
X-ALT-DESC;FMTTYPE=text/html:<p>This membership based badminton club practices and plays competitive badminton! Play occurs the 2nd and 4th Saturdays of the month.&nbsp;</p><p><a href="https://www.greensborobadminton.com/" target="_blank" rel="noopener">Learn more</a>&nbsp;and register today. Membership purchase available on the website.</p>
LOCATION:Trotter Active Adult Center\, 3906 Betula St. Greensboro\, North Carolina 27407
CLASS:PUBLIC
END:VEVENT
END:VCALENDAR
