BEGIN:VCALENDAR
VERSION:2.0
PRODID:Greensboro, NC Calendar Creator
METHOD:PUBLISH
BEGIN:VEVENT
DTSTAMP:20251114T101521
DTSTART:20260418T100000
DTEND:20260418T164500
SUMMARY:Badminton Club at Leonard
DESCRIPTION:<p>This membership based badminton club practices. Play occurs the 1st, 3rd, and 5th Saturdays.&nbsp;&nbsp;</p><p><a href="https://www.greensborobadminton.com/schedule-1" target="_blank" rel="noopener">Learn more</a>&nbsp;and register today. Yearly memberships are available for purchase on the website.&nbsp;</p><p>&nbsp;</p>
X-ALT-DESC;FMTTYPE=text/html:<p>This membership based badminton club practices. Play occurs the 1st, 3rd, and 5th Saturdays.&nbsp;&nbsp;</p><p><a href="https://www.greensborobadminton.com/schedule-1" target="_blank" rel="noopener">Learn more</a>&nbsp;and register today. Yearly memberships are available for purchase on the website.&nbsp;</p><p>&nbsp;</p>
LOCATION:Leonard Recreation Center\, 6324 Ballinger Rd. Greensboro\, North Carolina 27410
CLASS:PUBLIC
END:VEVENT
END:VCALENDAR
