BEGIN:VCALENDAR
VERSION:2.0
PRODID:Greensboro, NC Calendar Creator
METHOD:PUBLISH
BEGIN:VEVENT
DTSTAMP:20251114T080643
DTSTART:20260516T100000
DTEND:20260516T120000
SUMMARY:LEGO Builders Club
DESCRIPTION:Join the coolest club in town every Saturday! This program is an opportunity for creativity, design, and team building while having fun with LEGOs. Participants are welcome to bring their own or utilize supplies provided. No registration required.&nbsp;
X-ALT-DESC;FMTTYPE=text/html:Join the coolest club in town every Saturday! This program is an opportunity for creativity, design, and team building while having fun with LEGOs. Participants are welcome to bring their own or utilize supplies provided. No registration required.&nbsp;
LOCATION:Xperience @ Caldcleugh\, 1700 Orchard St. Greensboro\, North Carolina 27406
CLASS:PUBLIC
END:VEVENT
END:VCALENDAR
