BEGIN:VCALENDAR
VERSION:2.0
PRODID:Greensboro, NC Calendar Creator
METHOD:PUBLISH
BEGIN:VEVENT
DTSTAMP:20251110T141044
DTSTART:20260529T180000
DTEND:20260529T203000
SUMMARY:Delta H. Fencing
DESCRIPTION:This class meets weekly on Fridays to teach youth and adults the sport of fencing. Participants will learn how to fence both recreationally and in preparation for tournaments and personal non-competitive recreation.&nbsp; To register email <a href="mailto:&#108;&#108;&#109;&#106;&#119;&#102;&#64;&#97;&#116;&#116;&#46;&#110;&#101;&#116;">here</a>&nbsp;or message their<a href="https://www.facebook.com/p/Delta-H-Fencers-100057303165640/?paipv=0&amp;eav=AfYIxFNd9xbi3FGGXm7P8gS24mXaaI9Nn0JRWfMLAdksIl58aXtGkhi0bXamGWw6lmY&amp;_rdr" target="_blank"> Facebook page</a>.
X-ALT-DESC;FMTTYPE=text/html:This class meets weekly on Fridays to teach youth and adults the sport of fencing. Participants will learn how to fence both recreationally and in preparation for tournaments and personal non-competitive recreation.&nbsp; To register email <a href="mailto:&#108;&#108;&#109;&#106;&#119;&#102;&#64;&#97;&#116;&#116;&#46;&#110;&#101;&#116;">here</a>&nbsp;or message their<a href="https://www.facebook.com/p/Delta-H-Fencers-100057303165640/?paipv=0&amp;eav=AfYIxFNd9xbi3FGGXm7P8gS24mXaaI9Nn0JRWfMLAdksIl58aXtGkhi0bXamGWw6lmY&amp;_rdr" target="_blank"> Facebook page</a>.
LOCATION:Glenwood Recreation Center\, 2010 Coliseum Blvd. Greensboro\, North Carolina 27403
CLASS:PUBLIC
END:VEVENT
END:VCALENDAR
