BEGIN:VCALENDAR
VERSION:2.0
PRODID:Greensboro, NC Calendar Creator
METHOD:PUBLISH
BEGIN:VEVENT
DTSTAMP:20180109T031834
DTSTART:20111022T090000
DTEND:20111022T140000
SUMMARY:Semi-Annual Friends of the Library Used Book Sale
DESCRIPTION:Features books for adults and children, CDs and DVDs. Most books are priced from 50 cents to $2.&nbsp;All items for sale are community donations. Proceeds go to the Friends of the Greensboro Public Library. <br />
X-ALT-DESC;FMTTYPE=text/html:Features books for adults and children, CDs and DVDs. Most books are priced from 50 cents to $2.&nbsp;All items for sale are community donations. Proceeds go to the Friends of the Greensboro Public Library. <br />
LOCATION:Kathleen Clay Edwards Family Branch\, 1420 Price Park Rd Greensboro\, North Carolina 27410
CLASS:PUBLIC
END:VEVENT
END:VCALENDAR
