BEGIN:VCALENDAR
VERSION:2.0
PRODID:Greensboro, NC Calendar Creator
METHOD:PUBLISH
BEGIN:VEVENT
DTSTAMP:20180109T031834
DTSTART:20111028T103000
DTEND:20111028T235900
SUMMARY:School's Out Fun Day!
DESCRIPTION:Join us in the children's room&nbsp;for the morning movie <strong>It's the Great Pumpkin, Charlie Brown.</strong>
X-ALT-DESC;FMTTYPE=text/html:Join us in the children's room&nbsp;for the morning movie <strong>It's the Great Pumpkin, Charlie Brown.</strong>
LOCATION:Central Library\, 219 N. Church St. Greensboro\, North Carolina 27401
CLASS:PUBLIC
END:VEVENT
END:VCALENDAR
