BEGIN:VCALENDAR
VERSION:2.0
PRODID:Greensboro, NC Calendar Creator
METHOD:PUBLISH
BEGIN:VEVENT
DTSTAMP:20251106T163051
DTSTART:20260417T103000
DTEND:20260417T111500
SUMMARY:Little Explorers at Benjamin Branch: We're Bugging Out!
DESCRIPTION:<p>Join us for STEM, art and literacy activities inspired by creepy, crawly bugs for children aged 3 to 5. We’ll mix, match, count, create and learn – together! Please dress for mess.</p><p></p>
X-ALT-DESC;FMTTYPE=text/html:<p>Join us for STEM, art and literacy activities inspired by creepy, crawly bugs for children aged 3 to 5. We’ll mix, match, count, create and learn – together! Please dress for mess.</p><p></p>
LOCATION:Benjamin Branch Library\, 1530 Benjamin Parkway Greensboro\, North Carolina 27408
CLASS:PUBLIC
END:VEVENT
END:VCALENDAR
