BEGIN:VCALENDAR
VERSION:2.0
PRODID:Greensboro, NC Calendar Creator
METHOD:PUBLISH
BEGIN:VEVENT
DTSTAMP:20251106T121819
DTSTART:20260326T160000
DTEND:20260326T170000
SUMMARY:Benjamin Builders LEGO Challenge
DESCRIPTION:<p>Did you know a dolphin once got a 3D-printed prosthetic tail? Or that some dogs use wheelchairs to zoom around? In this hands-on challenge for school-age children, you’ll imagine an animal with a physical challenge—then design and build an innovative LEGO solution to help it thrive. Ready to engineer some kindness? Let’s build a better world, one brick at a time!</p><p></p><p>&nbsp;</p>
X-ALT-DESC;FMTTYPE=text/html:<p>Did you know a dolphin once got a 3D-printed prosthetic tail? Or that some dogs use wheelchairs to zoom around? In this hands-on challenge for school-age children, you’ll imagine an animal with a physical challenge—then design and build an innovative LEGO solution to help it thrive. Ready to engineer some kindness? Let’s build a better world, one brick at a time!</p><p></p><p>&nbsp;</p>
LOCATION:Benjamin Branch Library\, 1530 Benjamin Parkway Greensboro\, North Carolina 27408
CLASS:PUBLIC
END:VEVENT
END:VCALENDAR
