BEGIN:VCALENDAR
VERSION:2.0
PRODID:Greensboro, NC Calendar Creator
METHOD:PUBLISH
BEGIN:VEVENT
DTSTAMP:20251106T121726
DTSTART:20260226T160000
DTEND:20260226T170000
SUMMARY:Benjamin Builders LEGO Challenge
DESCRIPTION:<p>Think you can engineer a LEGO vehicle tough enough to conquer a zipline? Put your building skills to the test in this high-flying challenge designed for school-age children. Build it, launch it, and see if your creation can survive the ride!</p><p></p>
X-ALT-DESC;FMTTYPE=text/html:<p>Think you can engineer a LEGO vehicle tough enough to conquer a zipline? Put your building skills to the test in this high-flying challenge designed for school-age children. Build it, launch it, and see if your creation can survive the ride!</p><p></p>
LOCATION:Benjamin Branch Library\, 1530 Benjamin Parkway Greensboro\, North Carolina 27408
CLASS:PUBLIC
END:VEVENT
END:VCALENDAR
