BEGIN:VCALENDAR
VERSION:2.0
PRODID:Greensboro, NC Calendar Creator
METHOD:PUBLISH
BEGIN:VEVENT
DTSTAMP:20251106T121149
DTSTART:20260228T103000
DTEND:20260228T111500
SUMMARY:Happy Birthday, Pokémon
DESCRIPTION:<p>Think you’ve got what it takes to be a Pokémon Trainer? Step into the world of Pokémon to celebrate its 30th anniversary and put your skills to the test! Make and evolve your own Pokémon then participate in mini-games to level up. </p><p></p>
X-ALT-DESC;FMTTYPE=text/html:<p>Think you’ve got what it takes to be a Pokémon Trainer? Step into the world of Pokémon to celebrate its 30th anniversary and put your skills to the test! Make and evolve your own Pokémon then participate in mini-games to level up. </p><p></p>
LOCATION:Benjamin Branch Library\, 1530 Benjamin Parkway Greensboro\, North Carolina 27408
CLASS:PUBLIC
END:VEVENT
END:VCALENDAR
