BEGIN:VCALENDAR
VERSION:2.0
PRODID:Greensboro, NC Calendar Creator
METHOD:PUBLISH
BEGIN:VEVENT
DTSTAMP:20180109T031834
DTSTART:20111013T190000
DTEND:20111013T200000
SUMMARY:Enjoying Nature
DESCRIPTION:Using photographs of wildflowers, butterflies, birds, dragonflies, and even weather, this program focuses on appreciating the different aspects of nature all around us. Program is sponsored by the T. Gilbert Pearson Audubon Sponsored Program.
X-ALT-DESC;FMTTYPE=text/html:Using photographs of wildflowers, butterflies, birds, dragonflies, and even weather, this program focuses on appreciating the different aspects of nature all around us. Program is sponsored by the T. Gilbert Pearson Audubon Sponsored Program.
LOCATION:Kathleen Clay Edwards Family Branch Library\, 1420 Price Park Rd. Greensboro\, North Carolina 27410
CLASS:PUBLIC
END:VEVENT
END:VCALENDAR
