BEGIN:VCALENDAR
VERSION:2.0
PRODID:Greensboro, NC Calendar Creator
METHOD:PUBLISH
BEGIN:VEVENT
DTSTAMP:20180109T031834
DTSTART:20111012T153000
DTEND:20111012T161500
SUMMARY:Monarchs to Mexico
DESCRIPTION:Learn about the amazing migration of monarch butterflies to Mexico each year with stories and a craft.
X-ALT-DESC;FMTTYPE=text/html:Learn about the amazing migration of monarch butterflies to Mexico each year with stories and a craft.
LOCATION:Glenwood Branch Library\, 1901 W. Florida Street Greensboro\, North Carolina 27403
CLASS:PUBLIC
END:VEVENT
END:VCALENDAR
