BEGIN:VCALENDAR
VERSION:2.0
PRODID:Greensboro, NC Calendar Creator
METHOD:PUBLISH
BEGIN:VEVENT
DTSTAMP:20180109T031834
DTSTART:20111024T120000
DTEND:20111024T010000
SUMMARY:Benjamin Branch Readers
DESCRIPTION:Join the Benjamin Branch Readers as we&nbsp;discuss <strong><em>To Kill a Mockingbird</em></strong> by Harper Lee.
X-ALT-DESC;FMTTYPE=text/html:Join the Benjamin Branch Readers as we&nbsp;discuss <strong><em>To Kill a Mockingbird</em></strong> by Harper Lee.
LOCATION:Benjamin Branch Library\, 1530 Benjamin Parkway Greensboro\, North Carolina 27408
CLASS:PUBLIC
END:VEVENT
END:VCALENDAR
