BEGIN:VCALENDAR
VERSION:2.0
PRODID:Greensboro, NC Calendar Creator
METHOD:PUBLISH
BEGIN:VEVENT
DTSTAMP:20180109T031834
DTSTART:20111012T160000
DTEND:20111012T170000
SUMMARY:Dance Day for Kids: Hip-Hop & More
DESCRIPTION:School-age children are invited to join Princess Howell Johnson, local dance instructor, to learn different styles of dance. Registration is suggested.
X-ALT-DESC;FMTTYPE=text/html:School-age children are invited to join Princess Howell Johnson, local dance instructor, to learn different styles of dance. Registration is suggested.
LOCATION:McGirt-Horton Branch Library\, 2501 Phillips Avenue Greensboro\, North Carolina 27405
CLASS:PUBLIC
END:VEVENT
END:VCALENDAR
