BEGIN:VCALENDAR
VERSION:2.0
PRODID:Greensboro, NC Calendar Creator
METHOD:PUBLISH
BEGIN:VEVENT
DTSTAMP:20180109T031834
DTSTART:20111001T143000
DTEND:20111001T170000
SUMMARY:Teen Read Week Movie: The Lottery
DESCRIPTION:<p>Come watch this incredible documentary that follows four families who have entered their children in a charter school lottery in hope of a better future. The Lottery uncovers a ferocious debate surrounding the education reform movement and makes the case that any child can succeed.</p>
X-ALT-DESC;FMTTYPE=text/html:<p>Come watch this incredible documentary that follows four families who have entered their children in a charter school lottery in hope of a better future. The Lottery uncovers a ferocious debate surrounding the education reform movement and makes the case that any child can succeed.</p>
LOCATION:McGirt-Horton Branch Library\, 2501 Phillips Avenue Greensboro\, North Carolina 27405
CLASS:PUBLIC
END:VEVENT
END:VCALENDAR
