BEGIN:VCALENDAR
VERSION:2.0
PRODID:Greensboro, NC Calendar Creator
METHOD:PUBLISH
BEGIN:VEVENT
DTSTAMP:20180109T031834
DTSTART:20111016T090000
DTEND:20111022T180000
SUMMARY:Kid's Care Week
DESCRIPTION:<p>You are never too young to volunteer. Kids, join in the power of volunteering and reach out to your local community at McGirt-Horton Branch Library. RSVP by October 12.</p>
X-ALT-DESC;FMTTYPE=text/html:<p>You are never too young to volunteer. Kids, join in the power of volunteering and reach out to your local community at McGirt-Horton Branch Library. RSVP by October 12.</p>
LOCATION:McGirt-Horton Branch Library\, 2501 Phillips Avenue Greensboro\, North Carolina 27405
CLASS:PUBLIC
END:VEVENT
END:VCALENDAR
