BEGIN:VCALENDAR
VERSION:2.0
PRODID:Greensboro, NC Calendar Creator
METHOD:PUBLISH
BEGIN:VEVENT
DTSTAMP:20180109T031834
DTSTART:20110921T153000
DTEND:20110921T173000
SUMMARY:Art Discovery
DESCRIPTION:Make I Spy pictures with magazine picture collage. All age children&nbsp;may explore a new art material or project each week. Ages 9 and under must be with an adult.&nbsp;
X-ALT-DESC;FMTTYPE=text/html:Make I Spy pictures with magazine picture collage. All age children&nbsp;may explore a new art material or project each week. Ages 9 and under must be with an adult.&nbsp;
LOCATION:Hemphill Branch Library\, 2301 W Vandalia Road Greensboro\, North Carolina 27407
CLASS:PUBLIC
END:VEVENT
END:VCALENDAR
