BEGIN:VCALENDAR
VERSION:2.0
PRODID:Greensboro, NC Calendar Creator
METHOD:PUBLISH
BEGIN:VEVENT
DTSTAMP:20180109T031834
DTSTART:20111020T000000
DTEND:20111020T235900
SUMMARY:Picture Poetry and Basketball - Part Two
DESCRIPTION:This second of a two-part program&nbsp;celebrating Teen Read Week features a&nbsp;basketball tournament for all participants of the first session.
X-ALT-DESC;FMTTYPE=text/html:This second of a two-part program&nbsp;celebrating Teen Read Week features a&nbsp;basketball tournament for all participants of the first session.
LOCATION:Peeler Recreation Center\, 1300 Sykes Avenue Greensboro\, North Carolina 27405
CLASS:PUBLIC
END:VEVENT
END:VCALENDAR
