BEGIN:VCALENDAR
VERSION:2.0
PRODID:Greensboro, NC Calendar Creator
METHOD:PUBLISH
BEGIN:VEVENT
DTSTAMP:20180109T031834
DTSTART:20111019T173000
DTEND:20111019T190000
SUMMARY:Picture Poetry and Basketball - Part One
DESCRIPTION:In this first of a two-part program&nbsp;celebrating Teen Read Week, Poetry Project Teens lead a peer-to-peer poetry workshop.<strong> </strong>They will teach the basic components of poetry and help participants write their own poems. Teens must participate in this session in order to move forward to Part Two. <strong>Registration is required.</strong>
X-ALT-DESC;FMTTYPE=text/html:In this first of a two-part program&nbsp;celebrating Teen Read Week, Poetry Project Teens lead a peer-to-peer poetry workshop.<strong> </strong>They will teach the basic components of poetry and help participants write their own poems. Teens must participate in this session in order to move forward to Part Two. <strong>Registration is required.</strong>
LOCATION:McGirt-Horton Branch Library\, 2501 Phillips Avenue Greensboro\, North Carolina 27405
CLASS:PUBLIC
END:VEVENT
END:VCALENDAR
