BEGIN:VCALENDAR
VERSION:2.0
PRODID:Greensboro, NC Calendar Creator
METHOD:PUBLISH
BEGIN:VEVENT
DTSTAMP:20180109T031834
DTSTART:20111014T163000
DTEND:20111014T173000
SUMMARY:Kids Knit
DESCRIPTION:Learn new skills or just knit with friends. Adults and children ages&nbsp;6 and up are welcome.
X-ALT-DESC;FMTTYPE=text/html:Learn new skills or just knit with friends. Adults and children ages&nbsp;6 and up are welcome.
LOCATION:Hemphill Branch Library\, 2301 W Vandalia Road Greensboro\, North Carolina 27407
CLASS:PUBLIC
END:VEVENT
END:VCALENDAR
