BEGIN:VCALENDAR
VERSION:2.0
PRODID:Greensboro, NC Calendar Creator
METHOD:PUBLISH
BEGIN:VEVENT
DTSTAMP:20180109T031834
DTSTART:20111021T153000
DTEND:20111021T173000
SUMMARY:Studio Plus Painting
DESCRIPTION:Join us each Friday as we experience new and different ways to paint. Children under age 9 must be with an adult.
X-ALT-DESC;FMTTYPE=text/html:Join us each Friday as we experience new and different ways to paint. Children under age 9 must be with an adult.
LOCATION:Hemphill Branch Library\, 2301 W Vandalia Road Greensboro\, North Carolina 27407
CLASS:PUBLIC
END:VEVENT
END:VCALENDAR
