BEGIN:VCALENDAR
VERSION:2.0
PRODID:Greensboro, NC Calendar Creator
METHOD:PUBLISH
BEGIN:VEVENT
DTSTAMP:20180109T031834
DTSTART:20111017T183000
DTEND:20111017T193000
SUMMARY:Dishing the Dirt
DESCRIPTION:Healthy soil is the key to healthy plants. Turning red clay into great garden soil isn&rsquo;t magic &ndash; it just takes some information about basic soil science, soil testing and interpretation, and sustainable soil management practices. To register for this class, contact Pam Marshall at Cooperative Extension at 375-5876.
X-ALT-DESC;FMTTYPE=text/html:Healthy soil is the key to healthy plants. Turning red clay into great garden soil isn&rsquo;t magic &ndash; it just takes some information about basic soil science, soil testing and interpretation, and sustainable soil management practices. To register for this class, contact Pam Marshall at Cooperative Extension at 375-5876.
LOCATION:Kathleen Clay Edwards Family Branch Library\, 1420 Price Park Rd. Greensboro\, North Carolina 27410
CLASS:PUBLIC
END:VEVENT
END:VCALENDAR
