BEGIN:VCALENDAR
VERSION:2.0
PRODID:Greensboro, NC Calendar Creator
METHOD:PUBLISH
BEGIN:VEVENT
DTSTAMP:20180109T031834
DTSTART:20111012T133000
DTEND:20111012T150000
SUMMARY:Benchmark Book Discussion Club
DESCRIPTION:Reader's Choice each week; discussing <em>Blanche Passes On</em> by Barbara Neeley on October 26.
X-ALT-DESC;FMTTYPE=text/html:Reader's Choice each week; discussing <em>Blanche Passes On</em> by Barbara Neeley on October 26.
LOCATION:Hemphill Branch Library\, 2301 West Vandalia Road Greensboro\, North Carolina 27407
CLASS:PUBLIC
END:VEVENT
END:VCALENDAR
