BEGIN:VCALENDAR
VERSION:2.0
PRODID:Greensboro, NC Calendar Creator
METHOD:PUBLISH
BEGIN:VEVENT
DTSTAMP:20180109T031834
DTSTART:20110912T183000
DTEND:20110912T193000
SUMMARY:Fall Lawn Care
DESCRIPTION:Learn how to have a beautiful lawn. Includes information about seed varieties (which ones do better than others) and proper&nbsp;pH.
X-ALT-DESC;FMTTYPE=text/html:Learn how to have a beautiful lawn. Includes information about seed varieties (which ones do better than others) and proper&nbsp;pH.
LOCATION:Kathleen Clay Edwards Branch\, 1420 Price Park Rd. Greensboro\, North Carolina 27410
CLASS:PUBLIC
END:VEVENT
END:VCALENDAR
