BEGIN:VCALENDAR
VERSION:2.0
PRODID:Greensboro, NC Calendar Creator
METHOD:PUBLISH
BEGIN:VEVENT
DTSTAMP:20180109T031834
DTSTART:20110926T183000
DTEND:20110926T193000
SUMMARY:Games in the Garden
DESCRIPTION:Bring the whole family for relay races and other outdoor fun, weather permitting.
X-ALT-DESC;FMTTYPE=text/html:Bring the whole family for relay races and other outdoor fun, weather permitting.
LOCATION:Hemphill Branch Libary\, 2301 West Vandalia Rd Greensboro\, North Carolina 27407
CLASS:PUBLIC
END:VEVENT
END:VCALENDAR
