BEGIN:VCALENDAR
VERSION:2.0
PRODID:Greensboro, NC Calendar Creator
METHOD:PUBLISH
BEGIN:VEVENT
DTSTAMP:20180109T031834
DTSTART:20111008T193000
DTEND:20111008T203000
SUMMARY:International Observe the Moon Night
DESCRIPTION:Use binoculars and telescopes for a moon observation and family fun,&nbsp;weather permitting. Dress warmly!
X-ALT-DESC;FMTTYPE=text/html:Use binoculars and telescopes for a moon observation and family fun,&nbsp;weather permitting. Dress warmly!
LOCATION:Kathleen Clay Edwards Family Branch Library\, 1420 Price Park Rd. Greensboro\, North Carolina 27410
CLASS:PUBLIC
END:VEVENT
END:VCALENDAR
