BEGIN:VCALENDAR
VERSION:2.0
PRODID:Greensboro, NC Calendar Creator
METHOD:PUBLISH
BEGIN:VEVENT
DTSTAMP:20180109T031834
DTSTART:20111017T130000
DTEND:20111017T133000
SUMMARY:Story Time at Kathleen Clay Library 
DESCRIPTION:Here Comes Fall - stories, finger plays, and short movie for ages 1-5.
X-ALT-DESC;FMTTYPE=text/html:Here Comes Fall - stories, finger plays, and short movie for ages 1-5.
LOCATION:Kathleen Clay Edwards Library\, 1420 Price Park Rd. Greensboro\, North Carolina 27410
CLASS:PUBLIC
END:VEVENT
END:VCALENDAR
