BEGIN:VCALENDAR
VERSION:2.0
PRODID:Greensboro, NC Calendar Creator
METHOD:PUBLISH
BEGIN:VEVENT
DTSTAMP:20180109T031834
DTSTART:20111020T140000
DTEND:20111020T150000
SUMMARY:Mystery Book Club 
DESCRIPTION:Discussing <em>Don't Look Back</em> by Karin Fossum.
X-ALT-DESC;FMTTYPE=text/html:Discussing <em>Don't Look Back</em> by Karin Fossum.
LOCATION:Kathleen Clay Edwards Library\, 1420 Price Park Rd. Greensboro\, North Carolina 27410
CLASS:PUBLIC
END:VEVENT
END:VCALENDAR
