BEGIN:VCALENDAR
VERSION:2.0
PRODID:Greensboro, NC Calendar Creator
METHOD:PUBLISH
BEGIN:VEVENT
DTSTAMP:20180109T031834
DTSTART:20110910T150000
DTEND:20110910T170000
SUMMARY:Studio Plus Saturday
DESCRIPTION:Create awesome objects with Noodles, fun building pieces made out of corn and so easy to stick together. Ages 9 and under must be with an adult.
X-ALT-DESC;FMTTYPE=text/html:Create awesome objects with Noodles, fun building pieces made out of corn and so easy to stick together. Ages 9 and under must be with an adult.
LOCATION:Hemphill Branch Library\, 2301 W Vandalia Road Greensboro\, North Carolina 27407
CLASS:PUBLIC
END:VEVENT
END:VCALENDAR
