BEGIN:VCALENDAR
VERSION:2.0
PRODID:Greensboro, NC Calendar Creator
METHOD:PUBLISH
BEGIN:VEVENT
DTSTAMP:20180109T031834
DTSTART:20111022T150000
DTEND:20111022T170000
SUMMARY:Studio Plus Saturday
DESCRIPTION:Make a leaf rubbing notebook in the art studio today. Studio Plus takes place every second and fourth Saturday and features painting, group projects and crafts. Ages 9 and under must be with an adult.
X-ALT-DESC;FMTTYPE=text/html:Make a leaf rubbing notebook in the art studio today. Studio Plus takes place every second and fourth Saturday and features painting, group projects and crafts. Ages 9 and under must be with an adult.
LOCATION:Hemphill Branch Library\, 2301 W Vandalia Road Greensboro\, North Carolina 27407
CLASS:PUBLIC
END:VEVENT
END:VCALENDAR
