BEGIN:VCALENDAR
VERSION:2.0
PRODID:Greensboro, NC Calendar Creator
METHOD:PUBLISH
BEGIN:VEVENT
DTSTAMP:20180109T031834
DTSTART:20111019T190000
DTEND:20111019T210000
SUMMARY:Horror Film Festival
DESCRIPTION:Enjoy some classic horror with <em>Crater Lake Monster</em>, 1977, PG.
X-ALT-DESC;FMTTYPE=text/html:Enjoy some classic horror with <em>Crater Lake Monster</em>, 1977, PG.
LOCATION:Hemphill Branch Library\, 2301 West Vandalia Road Greensboro\, North Carolina 27407
CLASS:PUBLIC
END:VEVENT
END:VCALENDAR
