BEGIN:VCALENDAR
VERSION:2.0
PRODID:Greensboro, NC Calendar Creator
METHOD:PUBLISH
BEGIN:VEVENT
DTSTAMP:20180109T031834
DTSTART:20111117T190000
DTEND:20111117T203000
SUMMARY:Literati Society
DESCRIPTION:Discussing&nbsp;<em>Marlene: Marlene Dietrich, a Personal Biography</em>&nbsp;by Charlotte Chandler.
X-ALT-DESC;FMTTYPE=text/html:Discussing&nbsp;<em>Marlene: Marlene Dietrich, a Personal Biography</em>&nbsp;by Charlotte Chandler.
LOCATION:Hemphill Branch Library\, 2301 West Vandalia Road Greensboro\, North Carolina 27407
CLASS:PUBLIC
END:VEVENT
END:VCALENDAR
